BEGIN:VCALENDAR
VERSION:2.0
PRODID:-//hacksw/handcal//NONSGML v1.0//EN
CALSCALE:GREGORIAN
BEGIN:VEVENT
DTSTART:19691231T160000Z
DTEND:19691231T160000Z
UID:e15691
DTSTAMP:20260421T235415Z
LOCATION:Arthur and Rochelle Belfer Building for Biomedical Research
DESCRIPTION:Motile cells within a static structure: Sensing the extracellular matrix maintains motility inside bacterial biofilms
SUMMARY:Motile cells within a static structure: Sensing the extracellular matrix maintains motility inside bacterial biofilms
END:VEVENT
END:VCALENDAR