BEGIN:VCALENDAR
VERSION:2.0
PRODID:-//hacksw/handcal//NONSGML v1.0//EN
CALSCALE:GREGORIAN
BEGIN:VEVENT
DTSTART:20150425T180000Z
DTEND:20150425T180000Z
UID:e15708
DTSTAMP:20260421T213314Z
LOCATION:Michael Sela Auditorium
DESCRIPTION:Zig zag couples 
SUMMARY:Zig zag couples 
END:VEVENT
END:VCALENDAR