BEGIN:VCALENDAR
VERSION:2.0
PRODID:-//hacksw/handcal//NONSGML v1.0//EN
CALSCALE:GREGORIAN
BEGIN:VEVENT
DTSTART:19691231T160000Z
DTEND:19691231T160000Z
UID:e15732
DTSTAMP:20260421T085105Z
LOCATION:The David Lopatie Conference Centre
DESCRIPTION:Nanoparticles at the interface between biology and the materials world
SUMMARY:Nanoparticles at the interface between biology and the materials world
END:VEVENT
END:VCALENDAR