BEGIN:VCALENDAR
VERSION:2.0
PRODID:-//hacksw/handcal//NONSGML v1.0//EN
CALSCALE:GREGORIAN
BEGIN:VEVENT
DTSTART:20150303T120000Z
DTEND:20150303T133000Z
UID:e15740
DTSTAMP:20260424T223647Z
LOCATION:Edna and K.B. Weissman Building of Physical Sciences
DESCRIPTION:The Interface of Science and Policy
SUMMARY:The Interface of Science and Policy
END:VEVENT
END:VCALENDAR