BEGIN:VCALENDAR
VERSION:2.0
PRODID:-//hacksw/handcal//NONSGML v1.0//EN
CALSCALE:GREGORIAN
BEGIN:VEVENT
DTSTART:20150303T081500Z
DTEND:20150303T081500Z
UID:e15742
DTSTAMP:20260424T223651Z
LOCATION:Ullmann Building of Life Sciences
DESCRIPTION:Origin and composition of lipid droplets from Dunaliella
SUMMARY:Origin and composition of lipid droplets from Dunaliella
END:VEVENT
END:VCALENDAR