BEGIN:VCALENDAR
VERSION:2.0
PRODID:-//hacksw/handcal//NONSGML v1.0//EN
CALSCALE:GREGORIAN
BEGIN:VEVENT
DTSTART:19691231T160000Z
DTEND:19691231T160000Z
UID:e15749
DTSTAMP:20260422T010526Z
LOCATION:Sussman Family Building for Environmental Sciences
DESCRIPTION:&#8220\;Freshening&#8221\; of the Dead Sea during the Lisan - Evidence from the IDCP deep core
SUMMARY:&#8220\;Freshening&#8221\; of the Dead Sea during the Lisan - Evidence from the IDCP deep core
END:VEVENT
END:VCALENDAR