BEGIN:VCALENDAR
VERSION:2.0
PRODID:-//hacksw/handcal//NONSGML v1.0//EN
CALSCALE:GREGORIAN
BEGIN:VEVENT
DTSTART:20150419T120000Z
DTEND:20150419T130000Z
UID:e15784
DTSTAMP:20260421T235400Z
LOCATION:Arthur and Rochelle Belfer Building for Biomedical Research
DESCRIPTION:Redistribution of conventional and non-conventional body fat depots across lifestyle strategies: preliminary results of the CENTRAL MRI randomized trial
SUMMARY:Redistribution of conventional and non-conventional body fat depots across lifestyle strategies: preliminary results of the CENTRAL MRI randomized trial
END:VEVENT
END:VCALENDAR