BEGIN:VCALENDAR
VERSION:2.0
PRODID:-//hacksw/handcal//NONSGML v1.0//EN
CALSCALE:GREGORIAN
BEGIN:VEVENT
DTSTART:20150319T081500Z
DTEND:20150319T093000Z
UID:e15819
DTSTAMP:20260425T072026Z
LOCATION:Edna and K.B. Weissman Building of Physical Sciences
DESCRIPTION:A microscopic view of electronic nematicity in the pnictide superconductors
SUMMARY:A microscopic view of electronic nematicity in the pnictide superconductors
END:VEVENT
END:VCALENDAR