BEGIN:VCALENDAR
VERSION:2.0
PRODID:-//hacksw/handcal//NONSGML v1.0//EN
CALSCALE:GREGORIAN
BEGIN:VEVENT
DTSTART:19691231T160000Z
DTEND:19691231T160000Z
UID:e15858
DTSTAMP:20260420T003405Z
LOCATION:Wolfson Building for Biological Research
DESCRIPTION:Second Joint Symposium of the Trinity Biomedical Sciences Institute and the Weizmann Institute of Science
SUMMARY:Second Joint Symposium of the Trinity Biomedical Sciences Institute and the Weizmann Institute of Science
END:VEVENT
END:VCALENDAR