BEGIN:VCALENDAR
VERSION:2.0
PRODID:-//hacksw/handcal//NONSGML v1.0//EN
CALSCALE:GREGORIAN
BEGIN:VEVENT
DTSTART:20150511T110000Z
DTEND:20150511T120000Z
UID:e15862
DTSTAMP:20260420T003405Z
LOCATION:Wolfson Building for Biological Research
DESCRIPTION:The Ontogeny and Origin of Synovial and Lung Macrophages During Health and Disease
SUMMARY:The Ontogeny and Origin of Synovial and Lung Macrophages During Health and Disease
END:VEVENT
END:VCALENDAR