BEGIN:VCALENDAR
VERSION:2.0
PRODID:-//hacksw/handcal//NONSGML v1.0//EN
CALSCALE:GREGORIAN
BEGIN:VEVENT
DTSTART:20150420T080000Z
DTEND:20150420T090000Z
UID:e15863
DTSTAMP:20260421T235335Z
LOCATION:Wolfson Building for Biological Research
DESCRIPTION:Citrobacter rodentium-induced colitis: from  type III secretion system effectors to probiotics
SUMMARY:Citrobacter rodentium-induced colitis: from  type III secretion system effectors to probiotics
END:VEVENT
END:VCALENDAR