BEGIN:VCALENDAR
VERSION:2.0
PRODID:-//hacksw/handcal//NONSGML v1.0//EN
CALSCALE:GREGORIAN
BEGIN:VEVENT
DTSTART:20150414T081500Z
DTEND:20150414T081500Z
UID:e15867
DTSTAMP:20260419T100410Z
LOCATION:Ullmann Building of Life Sciences
DESCRIPTION:The Chloroplast: A Gold Mine of Homeostasis Studies
SUMMARY:The Chloroplast: A Gold Mine of Homeostasis Studies
END:VEVENT
END:VCALENDAR