BEGIN:VCALENDAR
VERSION:2.0
PRODID:-//hacksw/handcal//NONSGML v1.0//EN
CALSCALE:GREGORIAN
BEGIN:VEVENT
DTSTART:20150416T070000Z
DTEND:20150416T074500Z
UID:e15873
DTSTAMP:20260419T100425Z
LOCATION:
DESCRIPTION:A memorial Ceremony for Holocaust Remembrance Day
SUMMARY:A memorial Ceremony for Holocaust Remembrance Day
END:VEVENT
END:VCALENDAR