BEGIN:VCALENDAR
VERSION:2.0
PRODID:-//hacksw/handcal//NONSGML v1.0//EN
CALSCALE:GREGORIAN
BEGIN:VEVENT
DTSTART:20150413T130000Z
DTEND:20150413T153000Z
UID:e15893
DTSTAMP:20260419T100519Z
LOCATION:Gerhard M.J. Schmidt Lecture Hall
DESCRIPTION:marijuana lecture
SUMMARY:marijuana lecture
END:VEVENT
END:VCALENDAR