BEGIN:VCALENDAR
VERSION:2.0
PRODID:-//hacksw/handcal//NONSGML v1.0//EN
CALSCALE:GREGORIAN
BEGIN:VEVENT
DTSTART:20150416T081500Z
DTEND:20150416T093000Z
UID:e15895
DTSTAMP:20260421T082843Z
LOCATION:Edna and K.B. Weissman Building of Physical Sciences
DESCRIPTION:Are ants fluid or a solid
SUMMARY:Are ants fluid or a solid
END:VEVENT
END:VCALENDAR