BEGIN:VCALENDAR
VERSION:2.0
PRODID:-//hacksw/handcal//NONSGML v1.0//EN
CALSCALE:GREGORIAN
BEGIN:VEVENT
DTSTART:20150414T093000Z
DTEND:20150414T093000Z
UID:e15900
DTSTAMP:20260419T100503Z
LOCATION:Gerhard M.J. Schmidt Lecture Hall
DESCRIPTION:Timing\, oscillations and coupling in the cerebellar system
SUMMARY:Timing\, oscillations and coupling in the cerebellar system
END:VEVENT
END:VCALENDAR