BEGIN:VCALENDAR
VERSION:2.0
PRODID:-//hacksw/handcal//NONSGML v1.0//EN
CALSCALE:GREGORIAN
BEGIN:VEVENT
DTSTART:20150510T080000Z
DTEND:20150510T080000Z
UID:e15908
DTSTAMP:20260419T140653Z
LOCATION:Sussman Family Building for Environmental Sciences
DESCRIPTION:What has prevented us from reducing the uncertainty in aerosol cloud mediated radiative forcing and what can we do about it?
SUMMARY:What has prevented us from reducing the uncertainty in aerosol cloud mediated radiative forcing and what can we do about it?
END:VEVENT
END:VCALENDAR