BEGIN:VCALENDAR
VERSION:2.0
PRODID:-//hacksw/handcal//NONSGML v1.0//EN
CALSCALE:GREGORIAN
BEGIN:VEVENT
DTSTART:19691231T160000Z
DTEND:19691231T160000Z
UID:e15911
DTSTAMP:20260421T085235Z
LOCATION:The David Lopatie Conference Centre
DESCRIPTION:ICSG2015 - Deep Sequencing Meets Structural Biology
SUMMARY:ICSG2015 - Deep Sequencing Meets Structural Biology
END:VEVENT
END:VCALENDAR