BEGIN:VCALENDAR
VERSION:2.0
PRODID:-//hacksw/handcal//NONSGML v1.0//EN
CALSCALE:GREGORIAN
BEGIN:VEVENT
DTSTART:20150421T093000Z
DTEND:20150421T093000Z
UID:e15914
DTSTAMP:20260422T033946Z
LOCATION:Gerhard M.J. Schmidt Lecture Hall
DESCRIPTION:Major Depression: Recent Developments and Challenges in Treatment
SUMMARY:Major Depression: Recent Developments and Challenges in Treatment
END:VEVENT
END:VCALENDAR