BEGIN:VCALENDAR
VERSION:2.0
PRODID:-//hacksw/handcal//NONSGML v1.0//EN
CALSCALE:GREGORIAN
BEGIN:VEVENT
DTSTART:20150427T111500Z
DTEND:20150427T111500Z
UID:e15926
DTSTAMP:20260419T185612Z
LOCATION:Edna and K.B. Weissman Building of Physical Sciences
DESCRIPTION:Chirality and Polarity:  Two Mechanisms for Microstructure Formation in Soft Materials
SUMMARY:Chirality and Polarity:  Two Mechanisms for Microstructure Formation in Soft Materials
END:VEVENT
END:VCALENDAR