BEGIN:VCALENDAR
VERSION:2.0
PRODID:-//hacksw/handcal//NONSGML v1.0//EN
CALSCALE:GREGORIAN
BEGIN:VEVENT
DTSTART:20150610T170000Z
DTEND:20150610T193000Z
UID:e15936
DTSTAMP:20260424T042705Z
LOCATION:Michael Sela Auditorium
DESCRIPTION:Brahms meets Haydn 
SUMMARY:Brahms meets Haydn 
END:VEVENT
END:VCALENDAR