BEGIN:VCALENDAR
VERSION:2.0
PRODID:-//hacksw/handcal//NONSGML v1.0//EN
CALSCALE:GREGORIAN
BEGIN:VEVENT
DTSTART:20150620T170000Z
DTEND:20150620T190000Z
UID:e15974
DTSTAMP:20260420T034111Z
LOCATION:Michael Sela Auditorium
DESCRIPTION:Russian Stand Up 
SUMMARY:Russian Stand Up 
END:VEVENT
END:VCALENDAR