BEGIN:VCALENDAR
VERSION:2.0
PRODID:-//hacksw/handcal//NONSGML v1.0//EN
CALSCALE:GREGORIAN
BEGIN:VEVENT
DTSTART:20150506T080000Z
DTEND:20150506T080000Z
UID:e15976
DTSTAMP:20260419T185426Z
LOCATION:Perlman Chemical Sciences Building
DESCRIPTION:Minimum Free-Energy Paths Obtained from Umbrella Sampling
SUMMARY:Minimum Free-Energy Paths Obtained from Umbrella Sampling
END:VEVENT
END:VCALENDAR