BEGIN:VCALENDAR
VERSION:2.0
PRODID:-//hacksw/handcal//NONSGML v1.0//EN
CALSCALE:GREGORIAN
BEGIN:VEVENT
DTSTART:20150601T110000Z
DTEND:20150601T120000Z
UID:e15983
DTSTAMP:20260421T085535Z
LOCATION:Max and Lillian Candiotty Building
DESCRIPTION:Insights into cardiovascular and reproductive pathophysiology from studies of the HDL receptor SR-BI and its tissue-specific adaptor PDZK1 
SUMMARY:Insights into cardiovascular and reproductive pathophysiology from studies of the HDL receptor SR-BI and its tissue-specific adaptor PDZK1 
END:VEVENT
END:VCALENDAR