BEGIN:VCALENDAR
VERSION:2.0
PRODID:-//hacksw/handcal//NONSGML v1.0//EN
CALSCALE:GREGORIAN
BEGIN:VEVENT
DTSTART:19691231T160000Z
DTEND:19691231T160000Z
UID:e16006
DTSTAMP:20260420T005447Z
LOCATION:The David Lopatie Conference Centre
DESCRIPTION:EPScon - Student Conference on Research in Environmental\, Earth and Planetary Sciences
SUMMARY:EPScon - Student Conference on Research in Environmental\, Earth and Planetary Sciences
END:VEVENT
END:VCALENDAR