BEGIN:VCALENDAR
VERSION:2.0
PRODID:-//hacksw/handcal//NONSGML v1.0//EN
CALSCALE:GREGORIAN
BEGIN:VEVENT
DTSTART:20150511T110000Z
DTEND:20150511T120000Z
UID:e16008
DTSTAMP:20260421T051440Z
LOCATION:Max and Lillian Candiotty Building
DESCRIPTION:A fast Endophilin-dependent\, Clathrin-independent endocytic mechanism
SUMMARY:A fast Endophilin-dependent\, Clathrin-independent endocytic mechanism
END:VEVENT
END:VCALENDAR