BEGIN:VCALENDAR
VERSION:2.0
PRODID:-//hacksw/handcal//NONSGML v1.0//EN
CALSCALE:GREGORIAN
BEGIN:VEVENT
DTSTART:20150603T110000Z
DTEND:20150603T120000Z
UID:e16025
DTSTAMP:20260421T085427Z
LOCATION:Wolfson Building for Biological Research
DESCRIPTION:Integration of Coagulation Signaling in Innate Immunity and Inflammation
SUMMARY:Integration of Coagulation Signaling in Innate Immunity and Inflammation
END:VEVENT
END:VCALENDAR