BEGIN:VCALENDAR
VERSION:2.0
PRODID:-//hacksw/handcal//NONSGML v1.0//EN
CALSCALE:GREGORIAN
BEGIN:VEVENT
DTSTART:20150603T111500Z
DTEND:20150603T111500Z
UID:e16039
DTSTAMP:20260424T034608Z
LOCATION:Edna and K.B. Weissman Building of Physical Sciences
DESCRIPTION:Theoretical  Principles of Virus-Microbe Dynamics
SUMMARY:Theoretical  Principles of Virus-Microbe Dynamics
END:VEVENT
END:VCALENDAR