BEGIN:VCALENDAR
VERSION:2.0
PRODID:-//hacksw/handcal//NONSGML v1.0//EN
CALSCALE:GREGORIAN
BEGIN:VEVENT
DTSTART:20150603T070000Z
DTEND:20150603T080000Z
UID:e16042
DTSTAMP:20260425T070948Z
LOCATION:Arthur and Rochelle Belfer Building for Biomedical Research
DESCRIPTION:Forum on Mathematical Principles in Biolog
SUMMARY:Forum on Mathematical Principles in Biolog
END:VEVENT
END:VCALENDAR