BEGIN:VCALENDAR
VERSION:2.0
PRODID:-//hacksw/handcal//NONSGML v1.0//EN
CALSCALE:GREGORIAN
BEGIN:VEVENT
DTSTART:20150607T070000Z
DTEND:20150607T070000Z
UID:e16051
DTSTAMP:20260421T085535Z
LOCATION:Arthur and Rochelle Belfer Building for Biomedical Research
DESCRIPTION:From yeast mating to Hutchinson-Gilford Progeria Syndrome (HGPS)\, a premature aging disorder
SUMMARY:From yeast mating to Hutchinson-Gilford Progeria Syndrome (HGPS)\, a premature aging disorder
END:VEVENT
END:VCALENDAR