BEGIN:VCALENDAR
VERSION:2.0
PRODID:-//hacksw/handcal//NONSGML v1.0//EN
CALSCALE:GREGORIAN
BEGIN:VEVENT
DTSTART:19691231T160000Z
DTEND:19691231T160000Z
UID:e16053
DTSTAMP:20260419T231631Z
LOCATION:
DESCRIPTION:The 67th Annual General Meeting of the International Board
SUMMARY:The 67th Annual General Meeting of the International Board
END:VEVENT
END:VCALENDAR