BEGIN:VCALENDAR
VERSION:2.0
PRODID:-//hacksw/handcal//NONSGML v1.0//EN
CALSCALE:GREGORIAN
BEGIN:VEVENT
DTSTART:19691231T160000Z
DTEND:19691231T160000Z
UID:e16057
DTSTAMP:20260419T100439Z
LOCATION:
DESCRIPTION:Executive Board and Committees Meeting - 2016
SUMMARY:Executive Board and Committees Meeting - 2016
END:VEVENT
END:VCALENDAR