BEGIN:VCALENDAR
VERSION:2.0
PRODID:-//hacksw/handcal//NONSGML v1.0//EN
CALSCALE:GREGORIAN
BEGIN:VEVENT
DTSTART:20150709T173000Z
DTEND:20150709T190000Z
UID:e16064
DTSTAMP:20260420T050137Z
LOCATION:Michael Sela Auditorium
DESCRIPTION:Adir Miller - Stand Up 
SUMMARY:Adir Miller - Stand Up 
END:VEVENT
END:VCALENDAR