BEGIN:VCALENDAR
VERSION:2.0
PRODID:-//hacksw/handcal//NONSGML v1.0//EN
CALSCALE:GREGORIAN
BEGIN:VEVENT
DTSTART:20150706T070000Z
DTEND:20150706T150000Z
UID:e16081
DTSTAMP:20260421T085536Z
LOCATION:Jacob Ziskind Building
DESCRIPTION:Amitsur Symposium in Algebra
SUMMARY:Amitsur Symposium in Algebra
END:VEVENT
END:VCALENDAR