BEGIN:VCALENDAR
VERSION:2.0
PRODID:-//hacksw/handcal//NONSGML v1.0//EN
CALSCALE:GREGORIAN
BEGIN:VEVENT
DTSTART:20150604T081500Z
DTEND:20150604T093000Z
UID:e16087
DTSTAMP:20260421T150457Z
LOCATION:Edna and K.B. Weissman Building of Physical Sciences
DESCRIPTION:Dirac Electrons &#8212\; Living on the Edge
SUMMARY:Dirac Electrons &#8212\; Living on the Edge
END:VEVENT
END:VCALENDAR