BEGIN:VCALENDAR
VERSION:2.0
PRODID:-//hacksw/handcal//NONSGML v1.0//EN
CALSCALE:GREGORIAN
BEGIN:VEVENT
DTSTART:20150610T073000Z
DTEND:20150610T080000Z
UID:e16090
DTSTAMP:20260420T162324Z
LOCATION:Gerhard M.J. Schmidt Lecture Hall
DESCRIPTION:Structural surprises in NF-k
SUMMARY:Structural surprises in NF-k
END:VEVENT
END:VCALENDAR