BEGIN:VCALENDAR
VERSION:2.0
PRODID:-//hacksw/handcal//NONSGML v1.0//EN
CALSCALE:GREGORIAN
BEGIN:VEVENT
DTSTART:20150608T110000Z
DTEND:20150608T110000Z
UID:e16098
DTSTAMP:20260424T055848Z
LOCATION:Perlman Chemical Sciences Building
DESCRIPTION:Near-field Optics: spatial superresolution\, quantum computing\, and photon crystal-supported surface electromagnetic waves with their applications
SUMMARY:Near-field Optics: spatial superresolution\, quantum computing\, and photon crystal-supported surface electromagnetic waves with their applications
END:VEVENT
END:VCALENDAR