BEGIN:VCALENDAR
VERSION:2.0
PRODID:-//hacksw/handcal//NONSGML v1.0//EN
CALSCALE:GREGORIAN
BEGIN:VEVENT
DTSTART:20150623T110000Z
DTEND:20150623T121500Z
UID:e16100
DTSTAMP:20260420T120007Z
LOCATION:Helen and Milton A. Kimmelman Building
DESCRIPTION:"Catalysis on Steroids: Physical Principles Underpinning Enzyme Catalysis and Prospects for Rational Design"
SUMMARY:"Catalysis on Steroids: Physical Principles Underpinning Enzyme Catalysis and Prospects for Rational Design"
END:VEVENT
END:VCALENDAR