BEGIN:VCALENDAR
VERSION:2.0
PRODID:-//hacksw/handcal//NONSGML v1.0//EN
CALSCALE:GREGORIAN
BEGIN:VEVENT
DTSTART:20150723T070000Z
DTEND:20150723T070000Z
UID:e16105
DTSTAMP:20260419T182218Z
LOCATION:Arthur and Rochelle Belfer Building for Biomedical Research
DESCRIPTION:Host-microbiota-Pathogens interactions in C. elegans: Determinism in shaping of the gut microbiota and its implications
SUMMARY:Host-microbiota-Pathogens interactions in C. elegans: Determinism in shaping of the gut microbiota and its implications
END:VEVENT
END:VCALENDAR