BEGIN:VCALENDAR
VERSION:2.0
PRODID:-//hacksw/handcal//NONSGML v1.0//EN
CALSCALE:GREGORIAN
BEGIN:VEVENT
DTSTART:20150609T101500Z
DTEND:20150609T111500Z
UID:e16107
DTSTAMP:20260420T034112Z
LOCATION:Edna and K.B. Weissman Building of Physical Sciences
DESCRIPTION:How to get published: the art of good communication
SUMMARY:How to get published: the art of good communication
END:VEVENT
END:VCALENDAR