BEGIN:VCALENDAR
VERSION:2.0
PRODID:-//hacksw/handcal//NONSGML v1.0//EN
CALSCALE:GREGORIAN
BEGIN:VEVENT
DTSTART:20150827T183000Z
DTEND:20150827T194500Z
UID:e16109
DTSTAMP:20260419T185559Z
LOCATION:Michael Sela Auditorium
DESCRIPTION:Reshef Levi 
SUMMARY:Reshef Levi 
END:VEVENT
END:VCALENDAR