BEGIN:VCALENDAR
VERSION:2.0
PRODID:-//hacksw/handcal//NONSGML v1.0//EN
CALSCALE:GREGORIAN
BEGIN:VEVENT
DTSTART:20150708T080000Z
DTEND:20150708T093000Z
UID:e16118
DTSTAMP:20260420T034157Z
LOCATION:Nancy and Stephen Grand Israel National Center for Personalized Medicine
DESCRIPTION:G-INCPM-Seminar - Dr. Jacob Hanna\, Dept. of Molecular Genetics\, Weizmann Institute - "Molecular Mechanisms for Assembling and Resolving Distinct Pluripotent States"
SUMMARY:G-INCPM-Seminar - Dr. Jacob Hanna\, Dept. of Molecular Genetics\, Weizmann Institute - "Molecular Mechanisms for Assembling and Resolving Distinct Pluripotent States"
END:VEVENT
END:VCALENDAR