BEGIN:VCALENDAR
VERSION:2.0
PRODID:-//hacksw/handcal//NONSGML v1.0//EN
CALSCALE:GREGORIAN
BEGIN:VEVENT
DTSTART:20150610T080000Z
DTEND:20150610T080000Z
UID:e16119
DTSTAMP:20260420T034201Z
LOCATION:
DESCRIPTION:SIMPle Dark Matter: Self-Interactions and keV Lines
SUMMARY:SIMPle Dark Matter: Self-Interactions and keV Lines
END:VEVENT
END:VCALENDAR