BEGIN:VCALENDAR
VERSION:2.0
PRODID:-//hacksw/handcal//NONSGML v1.0//EN
CALSCALE:GREGORIAN
BEGIN:VEVENT
DTSTART:20150702T110000Z
DTEND:20150702T120000Z
UID:e16130
DTSTAMP:20260421T085332Z
LOCATION:Wolfson Building for Biological Research
DESCRIPTION:News is in the AIRE – on dominant mutations and autoimmunity
SUMMARY:News is in the AIRE – on dominant mutations and autoimmunity
END:VEVENT
END:VCALENDAR