BEGIN:VCALENDAR
VERSION:2.0
PRODID:-//hacksw/handcal//NONSGML v1.0//EN
CALSCALE:GREGORIAN
BEGIN:VEVENT
DTSTART:20150625T110000Z
DTEND:20150625T114500Z
UID:e16131
DTSTAMP:20260421T085326Z
LOCATION:Wolfson Building for Biological Research
DESCRIPTION:The T-Body Approach for Cancer Therapy and Beyond
SUMMARY:The T-Body Approach for Cancer Therapy and Beyond
END:VEVENT
END:VCALENDAR