BEGIN:VCALENDAR
VERSION:2.0
PRODID:-//hacksw/handcal//NONSGML v1.0//EN
CALSCALE:GREGORIAN
BEGIN:VEVENT
DTSTART:20150623T080000Z
DTEND:20150623T080000Z
UID:e16146
DTSTAMP:20260420T045916Z
LOCATION:Arthur and Rochelle Belfer Building for Biomedical Research
DESCRIPTION:GeneAnalytics and VarElect: NGS Gene-Set Flavors and Phenotype-Based Prioritization
SUMMARY:GeneAnalytics and VarElect: NGS Gene-Set Flavors and Phenotype-Based Prioritization
END:VEVENT
END:VCALENDAR