BEGIN:VCALENDAR
VERSION:2.0
PRODID:-//hacksw/handcal//NONSGML v1.0//EN
CALSCALE:GREGORIAN
BEGIN:VEVENT
DTSTART:20150624T120000Z
DTEND:20150624T120000Z
UID:e16152
DTSTAMP:20260421T085032Z
LOCATION:Gerhard M.J. Schmidt Lecture Hall
DESCRIPTION:A neural basis for persistence in learned behavioral states
SUMMARY:A neural basis for persistence in learned behavioral states
END:VEVENT
END:VCALENDAR