BEGIN:VCALENDAR
VERSION:2.0
PRODID:-//hacksw/handcal//NONSGML v1.0//EN
CALSCALE:GREGORIAN
BEGIN:VEVENT
DTSTART:20150630T083000Z
DTEND:20150630T083000Z
UID:e16156
DTSTAMP:20260421T085236Z
LOCATION:Arthur and Rochelle Belfer Building for Biomedical Research
DESCRIPTION:Hitler's psychiatrists and neuroscientists: healers and researchers turned executioners
SUMMARY:Hitler's psychiatrists and neuroscientists: healers and researchers turned executioners
END:VEVENT
END:VCALENDAR