BEGIN:VCALENDAR
VERSION:2.0
PRODID:-//hacksw/handcal//NONSGML v1.0//EN
CALSCALE:GREGORIAN
BEGIN:VEVENT
DTSTART:20150802T180000Z
DTEND:20150802T193000Z
UID:e16160
DTSTAMP:20260419T182246Z
LOCATION:Michael Sela Auditorium
DESCRIPTION:Alilot Yichie beTailand 
SUMMARY:Alilot Yichie beTailand 
END:VEVENT
END:VCALENDAR