BEGIN:VCALENDAR
VERSION:2.0
PRODID:-//hacksw/handcal//NONSGML v1.0//EN
CALSCALE:GREGORIAN
BEGIN:VEVENT
DTSTART:20150706T110000Z
DTEND:20150706T130000Z
UID:e16161
DTSTAMP:20260421T085331Z
LOCATION:Perlman Chemical Sciences Building
DESCRIPTION:Energy and Sustainability. Analyzing the options for a sustainable energy future
SUMMARY:Energy and Sustainability. Analyzing the options for a sustainable energy future
END:VEVENT
END:VCALENDAR